BEGIN:VCALENDAR
VERSION:2.0
PRODID:-//Fridericianum 2014//v1.0//EN
BEGIN:VEVENT
UID:97a7e0c8f1f176ca99289b1604356460
DTSTAMP:20260419T161509Z
DTSTART:TZ
DTEND:TZ
SUMMARY:Sonderöffnungszeiten
END:VEVENT
END:VCALENDAR