BEGIN:VCALENDAR
VERSION:2.0
PRODID:-//Fridericianum 2014//v1.0//EN
BEGIN:VEVENT
UID:ade7f9c648b481cd87e4ff179cb9e1e3
DTSTAMP:20260419T174222Z
DTSTART:TZ
DTEND:TZ
SUMMARY:Prof. Evelyn Schulz: Japanische Perspektiven auf die Moderne – Ein Überblick vom späten 19. Jahrhundert bis in die Gegenwart
END:VEVENT
END:VCALENDAR