BEGIN:VCALENDAR
VERSION:2.0
PRODID:-//Fridericianum 2014//v1.0//EN
BEGIN:VEVENT
UID:7e3a84f8c62449823b1943d3073eb214
DTSTAMP:20260419T174626Z
DTSTART:TZ
DTEND:TZ
SUMMARY:Fridericianum Features
END:VEVENT
END:VCALENDAR