BEGIN:VCALENDAR
VERSION:2.0
PRODID:-//Fridericianum 2014//v1.0//EN
BEGIN:VEVENT
UID:d62b3b233a6f5e7e9cfa7db544f97c30
DTSTAMP:20260419T174626Z
DTSTART:TZ
DTEND:TZ
SUMMARY:A New Fascism?
END:VEVENT
END:VCALENDAR